BEGIN:VCALENDAR
VERSION:2.0
PRODID:-//GiM - ECPv6.15.20//NONSGML v1.0//EN
CALSCALE:GREGORIAN
METHOD:PUBLISH
X-WR-CALNAME:GiM
X-ORIGINAL-URL:https://gim-hessdorf.de
X-WR-CALDESC:Veranstaltungen für GiM
REFRESH-INTERVAL;VALUE=DURATION:PT1H
X-Robots-Tag:noindex
X-PUBLISHED-TTL:PT1H
BEGIN:VTIMEZONE
TZID:Europe/Berlin
BEGIN:DAYLIGHT
TZOFFSETFROM:+0100
TZOFFSETTO:+0200
TZNAME:CEST
DTSTART:20250330T010000
END:DAYLIGHT
BEGIN:STANDARD
TZOFFSETFROM:+0200
TZOFFSETTO:+0100
TZNAME:CET
DTSTART:20251026T010000
END:STANDARD
BEGIN:DAYLIGHT
TZOFFSETFROM:+0100
TZOFFSETTO:+0200
TZNAME:CEST
DTSTART:20260329T010000
END:DAYLIGHT
BEGIN:STANDARD
TZOFFSETFROM:+0200
TZOFFSETTO:+0100
TZNAME:CET
DTSTART:20261025T010000
END:STANDARD
BEGIN:DAYLIGHT
TZOFFSETFROM:+0100
TZOFFSETTO:+0200
TZNAME:CEST
DTSTART:20270328T010000
END:DAYLIGHT
BEGIN:STANDARD
TZOFFSETFROM:+0200
TZOFFSETTO:+0100
TZNAME:CET
DTSTART:20271031T010000
END:STANDARD
END:VTIMEZONE
BEGIN:VEVENT
DTSTART;TZID=Europe/Berlin:20260419T150000
DTEND;TZID=Europe/Berlin:20260419T180000
DTSTAMP:20260424T145020
CREATED:20260322T140845Z
LAST-MODIFIED:20260411T121021Z
UID:1280-1776610800-1776621600@gim-hessdorf.de
SUMMARY:Kräuterwanderung mit Helmut Wening (Erlebnis- und Naturpädagoge)
DESCRIPTION:Erlebnis- und Naturpädagogen\nErlebnis- und Natrupädagogen stellen den direkten Kontakt zur Natur in den Mittelpunkt. Kinder und Erwachsene lernen durch praktisches Erleben und Entdecken in der natürlichen Umgebung. Es ist ein breites Konzept\, das sich auf alle Aspekte der Naturbildung konzentriert. \nDas erwartet Euch:\n\nEssbare Wildkräuter erkennen und ernten\nVerarbeitung und Verkostung der gesammelten Wildkräuter\n\nOrt der Veranstaltung – Karte\nAuf der Karte ist der Ort der Veranstaltung „Alter Berg“ markiert. Dieser befindet sich auf der Strecke von Niederlindach nach Hesselberg. Die Einfahrt befindet sich am Waldrand auf der linken Seite. \n \nFlyer für Kräuterwanderung herunterladen (pdf\, 526KB) \nDie Teilnahme ist kostenlos. Wir bitten jedoch um Ihre Anmeldung um besser planen zu können. \nAnmeldung zur KräuterwanderungBitte aktiviere JavaScript in deinem Browser\, um dieses Formular fertigzustellen.Bitte aktiviere JavaScript in deinem Browser\, um dieses Formular fertigzustellen.Name *VornameNachnameAnzahl der Personen\, die an der Kräuterwanderung teilnehmen *		\n			an (für Personen\,\n			\n		\n		Telefonnummer (für Rückfragen)DSGVO-Einverständnis *Ich willige ein\, dass meine übermittelten Informationen zur Planung der Veranstaltung gespeichert werden. Diese werden nach der Veranstaltung gelöscht.Absenden  \nTeilen mit:\n				Auf Facebook teilen (Wird in neuem Fenster geöffnet)\n				Facebook\n			\n				Auf LinkedIn teilen (Wird in neuem Fenster geöffnet)\n				LinkedIn\n			\n				Auf WhatsApp teilen (Wird in neuem Fenster geöffnet)\n				WhatsApp\n			\n				Einen Link per E-Mail an einen Freund senden (Wird in neuem Fenster geöffnet)\n				E-Mail\n			\n				Drucken (Wird in neuem Fenster geöffnet)\n				Drucken
URL:https://gim-hessdorf.de/veranstaltung/kraeuterwanderung/
ATTACH;FMTTYPE=image/png:https://gim-hessdorf.de/wp-content/uploads/2025/05/Wildkraeuter-1-e1774194444183.png
END:VEVENT
BEGIN:VEVENT
DTSTART;TZID=Europe/Berlin:20260328T110000
DTEND;TZID=Europe/Berlin:20260328T140000
DTSTAMP:20260424T145020
CREATED:20260205T162835Z
LAST-MODIFIED:20260324T063327Z
UID:1241-1774695600-1774706400@gim-hessdorf.de
SUMMARY:Osterbasteln
DESCRIPTION:Bastelspaß für eure Kids. Wir basteln verschiedene osterliche Sachen. \nFür das leibliche Wohl bietet das Gasthaus Noppenberger Mittagstisch an. \nBei schönem Wetter im Biergarten oder bei schlechtem Wetter im Saal. \n  \nFlyer für Osterbasteln herunterladen (pdf\, 3MB) \nTeilen mit:\n				Auf Facebook teilen (Wird in neuem Fenster geöffnet)\n				Facebook\n			\n				Auf LinkedIn teilen (Wird in neuem Fenster geöffnet)\n				LinkedIn\n			\n				Auf WhatsApp teilen (Wird in neuem Fenster geöffnet)\n				WhatsApp\n			\n				Einen Link per E-Mail an einen Freund senden (Wird in neuem Fenster geöffnet)\n				E-Mail\n			\n				Drucken (Wird in neuem Fenster geöffnet)\n				Drucken
URL:https://gim-hessdorf.de/veranstaltung/osterbasteln/
LOCATION:Gasthaus Noppenberger\, Ortsteil Untermembach\, Auracher Straße 14\, Heßdorf\, 91093
ATTACH;FMTTYPE=image/jpeg:https://gim-hessdorf.de/wp-content/uploads/2025/12/2Osterhasen.jpg
END:VEVENT
BEGIN:VEVENT
DTSTART;TZID=Europe/Berlin:20260211T200000
DTEND;TZID=Europe/Berlin:20260211T220000
DTSTAMP:20260424T145020
CREATED:20260205T095058Z
LAST-MODIFIED:20260205T160343Z
UID:1230-1770840000-1770847200@gim-hessdorf.de
SUMMARY:Vorstellung der Kandidierenden für den Gemeinderat
DESCRIPTION:Lernen Sie alle Kandidierenden kennen. Kommen Sie mit uns ins Gespräch\, stellen Sie uns Fragen. Erzählen Sie uns\, was Sie in unserer Gemeinde bewegt.\n\n\n\nTeilen mit:\n				Auf Facebook teilen (Wird in neuem Fenster geöffnet)\n				Facebook\n			\n				Auf LinkedIn teilen (Wird in neuem Fenster geöffnet)\n				LinkedIn\n			\n				Auf WhatsApp teilen (Wird in neuem Fenster geöffnet)\n				WhatsApp\n			\n				Einen Link per E-Mail an einen Freund senden (Wird in neuem Fenster geöffnet)\n				E-Mail\n			\n				Drucken (Wird in neuem Fenster geöffnet)\n				Drucken
URL:https://gim-hessdorf.de/veranstaltung/vorstellung-der-kandidierenden-fuer-den-gemeinderat-3/
LOCATION:Restaurant Noon Mirch\, Klebheim
END:VEVENT
BEGIN:VEVENT
DTSTART;TZID=Europe/Berlin:20260210T200000
DTEND;TZID=Europe/Berlin:20260210T220000
DTSTAMP:20260424T145020
CREATED:20260205T094501Z
LAST-MODIFIED:20260205T094546Z
UID:1227-1770753600-1770760800@gim-hessdorf.de
SUMMARY:Vorstellung der Kandidierenden für den Gemeinderat
DESCRIPTION:Lernen Sie alle Kandidierenden kennen. Kommen Sie mit uns ins Gespräch\, stellen Sie uns Fragen. Erzählen Sie uns\, was Sie in unserer Gemeinde bewegt. \nTeilen mit:\n				Auf Facebook teilen (Wird in neuem Fenster geöffnet)\n				Facebook\n			\n				Auf LinkedIn teilen (Wird in neuem Fenster geöffnet)\n				LinkedIn\n			\n				Auf WhatsApp teilen (Wird in neuem Fenster geöffnet)\n				WhatsApp\n			\n				Einen Link per E-Mail an einen Freund senden (Wird in neuem Fenster geöffnet)\n				E-Mail\n			\n				Drucken (Wird in neuem Fenster geöffnet)\n				Drucken
URL:https://gim-hessdorf.de/veranstaltung/vorstellung-der-kandidierenden-fuer-den-gemeinderat-2/
LOCATION:Gasthaus Noppenberger\, Ortsteil Untermembach\, Auracher Straße 14\, Heßdorf\, 91093
END:VEVENT
BEGIN:VEVENT
DTSTART;TZID=Europe/Berlin:20260208T190000
DTEND;TZID=Europe/Berlin:20260208T210000
DTSTAMP:20260424T145020
CREATED:20260205T094041Z
LAST-MODIFIED:20260205T094041Z
UID:1221-1770577200-1770584400@gim-hessdorf.de
SUMMARY:Vorstellung der Kandidierenden für den Gemeinderat
DESCRIPTION:Lernen Sie alle Kandidierenden kennen. Kommen Sie mit uns ins Gespräch\, stellen Sie uns Fragen. Erzählen Sie uns\, was Sie in unserer Gemeinde bewegt. \nTeilen mit:\n				Auf Facebook teilen (Wird in neuem Fenster geöffnet)\n				Facebook\n			\n				Auf LinkedIn teilen (Wird in neuem Fenster geöffnet)\n				LinkedIn\n			\n				Auf WhatsApp teilen (Wird in neuem Fenster geöffnet)\n				WhatsApp\n			\n				Einen Link per E-Mail an einen Freund senden (Wird in neuem Fenster geöffnet)\n				E-Mail\n			\n				Drucken (Wird in neuem Fenster geöffnet)\n				Drucken
URL:https://gim-hessdorf.de/veranstaltung/vorstellung-der-kandidierenden-fuer-den-gemeinderat/
LOCATION:Sportheim des 1. FC Niederlindach
END:VEVENT
END:VCALENDAR